BEGIN:VCALENDAR
VERSION:2.0
PRODID:-//CPEP - ECPv6.15.20//NONSGML v1.0//EN
CALSCALE:GREGORIAN
METHOD:PUBLISH
X-ORIGINAL-URL:https://www.cpepdoc.org
X-WR-CALDESC:Events for CPEP
REFRESH-INTERVAL;VALUE=DURATION:PT1H
X-Robots-Tag:noindex
X-PUBLISHED-TTL:PT1H
BEGIN:VTIMEZONE
TZID:America/Denver
BEGIN:DAYLIGHT
TZOFFSETFROM:-0700
TZOFFSETTO:-0600
TZNAME:MDT
DTSTART:20250309T090000
END:DAYLIGHT
BEGIN:STANDARD
TZOFFSETFROM:-0600
TZOFFSETTO:-0700
TZNAME:MST
DTSTART:20251102T080000
END:STANDARD
BEGIN:DAYLIGHT
TZOFFSETFROM:-0700
TZOFFSETTO:-0600
TZNAME:MDT
DTSTART:20260308T090000
END:DAYLIGHT
BEGIN:STANDARD
TZOFFSETFROM:-0600
TZOFFSETTO:-0700
TZNAME:MST
DTSTART:20261101T080000
END:STANDARD
BEGIN:DAYLIGHT
TZOFFSETFROM:-0700
TZOFFSETTO:-0600
TZNAME:MDT
DTSTART:20270314T090000
END:DAYLIGHT
BEGIN:STANDARD
TZOFFSETFROM:-0600
TZOFFSETTO:-0700
TZNAME:MST
DTSTART:20271107T080000
END:STANDARD
END:VTIMEZONE
BEGIN:VEVENT
DTSTART;TZID=America/Denver:20260812T123000
DTEND;TZID=America/Denver:20260819T170000
DTSTAMP:20260422T060904
CREATED:20250919T170020Z
LAST-MODIFIED:20250919T170020Z
UID:10000148-1786537800-1787158800@www.cpepdoc.org
SUMMARY:Enhanced Patient Communication - Day 1: Wednesday\, August 12\, 2026 and Day 2: Wednesday\, August 19\, 2026 - 12:30PM to 5PM - CPEP LIVE - Mountain Time
DESCRIPTION:Enhanced Patient Communication\, Building Compassion\, Communication and Trust\, is designed to help clinicians refine and enhance their patient communication skills. The 10-hour program provides education and opportunities to practice new skills with simulated patients \n\nThe Enhanced Patient Communication seminar is designed to help clinicians refine and enhance their patient communication skills. The intensive 10-hour program allows participants to personalize the learning experience to address specific interests and “hot button” issues. Participants have multiple opportunities to practice new skills and receive individualized feedback. \nEnrollment is limited to eight participants\, allowing each clinician the opportunity to identify and work on individual goals. The seminar includes a behavior style profile\, interactive discussions\, a session on provider well-being and resilience\, simulated patient exercises\, and development of a personal Plan of Action identifying steps each participant can take to improve patient communication. \nEach participant receives a post-seminar report with recommendations from the faculty. The report and the participant’s Plan of Action can be released to a third party if requested by the participant. \nThrough this seminar\, participants will: \n\nUnderstand how behavior style and personal history impact communication with patients\nImprove understanding and mastery of primary principles of effective clinician-patient communication\nStrengthen communication skills through practice with and feedback from simulated patients\nEnhance skills in managing challenging communication situations through identification of their own “hot button” issues\, such as difficult patient encounters\, communicating unanticipated adverse outcomes\, saying no\, navigating “the list”\, or motivating patients to change.\n\n  \nSchedule: \n\nDay 1:  12:30 pm MST – 5:00 pm MST; 3 pm EST – 7:00 pm EST\nDay 2: 12:30 pm MST – 5:00 pm MST; 3 pm EST – 7:00 pm EST\n\n  \nFollow-up Program\nAn optional program provides follow-up and accountability to support improved communication and behavior change. The program offers six one-hour coaching sessions with a faculty member. \nWho should attend?\nThe seminar is targeted to clinicians who wish to improve their skills in this critical area. It is also designed to fulfill licensing board or credentialing recommendations for education. Physicians\, physician assistants\, advanced practice nurses\, podiatrists\, dentists and other healthcare professionals are invited to attend. \nCME and Fees\nThis activity has been planned and implemented in accordance with the accreditation requirements and policies of the Accreditation Council for Continuing Medical Education (ACCME) through the joint providership of Memorial Hospital UCHealth and CPEP. \nMemorial Hospital UCHealth is accredited by the Colorado Medical Society to provide continuing medical education for physicians. \nMemorial Hospital UCHealth designates this live course for a maximum of 11.0 AMA PRA Category 1 Credits ™. Memorial Hospital UCHealth CME Committee\, Planners and Faculty have no relevant relationships to disclose. Physicians should claim only the credit commensurate with the extent of their participation in the activity. \nThe seminar fee is $1\,750. The optional Follow-up Coaching Program requires a separate enrollment and fee.
URL:https://www.cpepdoc.org/cpep-course/enhanced-patient-communication-cpep-live-live-interactive-video-education-mountain-time-2-4-2-2-2-3-2-2-2/
LOCATION:CPEP LIVE – Live\, Interactive\, Video Education
CATEGORIES:Enhanced Patient Communication Seminar
ATTACH;FMTTYPE=image/jpeg:https://www.cpepdoc.org/wp-content/uploads/2020/05/Young-Man-Watching-a-Webinar.jpg
END:VEVENT
BEGIN:VEVENT
DTSTART;TZID=America/Denver:20261111T123000
DTEND;TZID=America/Denver:20261118T170000
DTSTAMP:20260422T060904
CREATED:20231016T181714Z
LAST-MODIFIED:20260108T162602Z
UID:10000107-1794400200-1795021200@www.cpepdoc.org
SUMMARY:Enhanced Patient Communication - Day 1: Wednesday\, November 12\, 2025 and Day 2: Wednesday\, November 19\, 2025 - 12:30PM to 5PM - CPEPLIVE - Mountain Time
DESCRIPTION:Enhanced Patient Communication\, Building Compassion\, Communication and Trust\, is designed to help clinicians refine and enhance their patient communication skills. The 10-hour program provides education and opportunities to practice new skills with simulated patients \n\nThe Enhanced Patient Communication seminar is designed to help clinicians refine and enhance their patient communication skills. The intensive 10-hour program allows participants to personalize the learning experience to address specific interests and “hot button” issues. Participants have multiple opportunities to practice new skills and receive individualized feedback. \nEnrollment is limited to eight participants\, allowing each clinician the opportunity to identify and work on individual goals. The seminar includes a behavior style profile\, interactive discussions\, a session on provider well-being and resilience\, simulated patient exercises\, and development of a personal Plan of Action identifying steps each participant can take to improve patient communication. \nEach participant receives a post-seminar report with recommendations from the faculty. The report and the participant’s Plan of Action can be released to a third party if requested by the participant. \nThrough this seminar\, participants will: \n\nUnderstand how behavior style and personal history impact communication with patients\nImprove understanding and mastery of primary principles of effective clinician-patient communication\nStrengthen communication skills through practice with and feedback from simulated patients\nEnhance skills in managing challenging communication situations through identification of their own “hot button” issues\, such as difficult patient encounters\, communicating unanticipated adverse outcomes\, saying no\, navigating “the list”\, or motivating patients to change.\n\n  \nSchedule: \n\nDay 1:  12:30 pm MST – 5:00 pm MST; 3 pm EST – 7:00 pm EST\nDay 2:  12:30 pm MST – 5:00 pm MST; 3 pm EST – 7:00 pm EST\n\n  \nFollow-up Program\nAn optional program provides follow-up and accountability to support improved communication and behavior change. The program offers six one-hour coaching sessions with a faculty member. \nWho should attend?\nThe seminar is targeted to clinicians who wish to improve their skills in this critical area. It is also designed to fulfill licensing board or credentialing recommendations for education. Physicians\, physician assistants\, advanced practice nurses\, podiatrists\, dentists and other healthcare professionals are invited to attend. \nCME and Fees\nThis activity has been planned and implemented in accordance with the accreditation requirements and policies of the Accreditation Council for Continuing Medical Education (ACCME) through the joint providership of Memorial Hospital UCHealth and CPEP. \nMemorial Hospital UCHealth is accredited by the Colorado Medical Society to provide continuing medical education for physicians. \nMemorial Hospital UCHealth designates this live course for a maximum of 11.0 AMA PRA Category 1 Credits ™. Memorial Hospital UCHealth CME Committee\, Planners and Faculty have no relevant relationships to disclose. Physicians should claim only the credit commensurate with the extent of their participation in the activity. \nThe seminar fee is $1\,750. The optional Follow-up Coaching Program requires a separate enrollment and fee.
URL:https://www.cpepdoc.org/cpep-course/enhanced-patient-communication-cpep-live-live-interactive-video-education-mountain-time-2-4-2-2-2-2/
LOCATION:CPEP LIVE – Live\, Interactive\, Video Education
CATEGORIES:Enhanced Patient Communication Seminar
ATTACH;FMTTYPE=image/jpeg:https://www.cpepdoc.org/wp-content/uploads/2020/05/Young-Man-Watching-a-Webinar.jpg
END:VEVENT
END:VCALENDAR