BEGIN:VCALENDAR
VERSION:2.0
PRODID:-//CPEP - ECPv6.15.20//NONSGML v1.0//EN
CALSCALE:GREGORIAN
METHOD:PUBLISH
X-ORIGINAL-URL:https://www.cpepdoc.org
X-WR-CALDESC:Events for CPEP
REFRESH-INTERVAL;VALUE=DURATION:PT1H
X-Robots-Tag:noindex
X-PUBLISHED-TTL:PT1H
BEGIN:VTIMEZONE
TZID:America/Chicago
BEGIN:DAYLIGHT
TZOFFSETFROM:-0600
TZOFFSETTO:-0500
TZNAME:CDT
DTSTART:20250309T080000
END:DAYLIGHT
BEGIN:STANDARD
TZOFFSETFROM:-0500
TZOFFSETTO:-0600
TZNAME:CST
DTSTART:20251102T070000
END:STANDARD
BEGIN:DAYLIGHT
TZOFFSETFROM:-0600
TZOFFSETTO:-0500
TZNAME:CDT
DTSTART:20260308T080000
END:DAYLIGHT
BEGIN:STANDARD
TZOFFSETFROM:-0500
TZOFFSETTO:-0600
TZNAME:CST
DTSTART:20261101T070000
END:STANDARD
BEGIN:DAYLIGHT
TZOFFSETFROM:-0600
TZOFFSETTO:-0500
TZNAME:CDT
DTSTART:20270314T080000
END:DAYLIGHT
BEGIN:STANDARD
TZOFFSETFROM:-0500
TZOFFSETTO:-0600
TZNAME:CST
DTSTART:20271107T070000
END:STANDARD
END:VTIMEZONE
BEGIN:VEVENT
DTSTART;TZID=America/Chicago:20260731T073000
DTEND;TZID=America/Chicago:20260731T170000
DTSTAMP:20260424T073513
CREATED:20251006T171651Z
LAST-MODIFIED:20251006T171651Z
UID:10000150-1785483000-1785517200@www.cpepdoc.org
SUMMARY:Medical Record Keeping Seminar - CPEP LIVE - Live\, Interactive Video Education - Central Time
DESCRIPTION:Medical Record Keeping Seminar\nThe one-day Medical Record Keeping Seminar incorporates presentations\, group exercises\, demonstrations\, practice lessons\, and evaluations. Participants also have the opportunity to address questions and concerns about their specific practices and procedures. Seminar enrollment is purposely limited to maximize the learning experience. \n\nCourse agenda subject to change without notice \n\n\n\n7:30 am CT/ 9:30 am ET\nSign On\n\n\n8:00 am\nWelcome & Course Overview\n\n\n8:30 am\nEssential Concepts in Documentation\n\n\n9:00 am\nCreating an Ideal Progress Note\n\n\n10 – 10:15 am\nBreak\n\n\n10:15 – 10:35 am\nRecord Keeping Responsibilities\n\n\n10:35 – 11:10 am \n11:10 – 11:30 am\nEssential Elements of the Chart and Record System \nDocumentation of Controlled Substance Prescribing\n\n\n11:30 am – Noon\nLunch\n\n\nNoon – 1:15 pm\nMedico-legal issues related to Electronic Documentation\n\n\n1:15 – 1:45 pm\nSetting & Discipline Specific Documentation\n\n\n1:45 – 2:45 pm \n2:45 – 3:15 pm\nBilling & Coding \nSmall Group Activity:  Chart Audit\n\n\n3:15 – 3:30 pm\nBreak\n\n\n3:30 – 4:00 pm\nGroup Activity:  Knowledge Check\n\n\n4:00 – 4:30 pm\nEssentials of Time Management\n\n\n4:30 – 4:50 pm \n4:50 – 5:00 pm\nIndividualized Documentation Improvement Plan \nConclusion and Adjournment
URL:https://www.cpepdoc.org/cpep-course/medical-record-keeping-seminar-cpep-live-live-interactive-video-education-mountain-time-3-3-3-2-2-2-2/
LOCATION:CPEP LIVE – Live\, Interactive\, Video Education
CATEGORIES:Medical Record Keeping Seminar
ATTACH;FMTTYPE=image/jpeg:https://www.cpepdoc.org/wp-content/uploads/2019/11/EMR-Larger.jpg
END:VEVENT
END:VCALENDAR